Package: condiments Version: 1.14.0 Command: /Library/Frameworks/R.framework/Resources/bin/R CMD INSTALL condiments StartedAt: 2025-02-10 16:30:42 -0500 (Mon, 10 Feb 2025) EndedAt: 2025-02-10 16:31:55 -0500 (Mon, 10 Feb 2025) EllapsedTime: 72.6 seconds RetCode: 0 Status: OK