Package: condiments Version: 1.14.0 Command: chmod a+r condiments -R && F:\biocbuild\bbs-3.20-bioc\R\bin\R.exe CMD build --keep-empty-dirs --no-resave-data condiments StartedAt: 2025-02-10 18:13:26 -0500 (Mon, 10 Feb 2025) EndedAt: 2025-02-10 18:17:50 -0500 (Mon, 10 Feb 2025) EllapsedTime: 263.5 seconds RetCode: 0 Status: OK PackageFile: condiments_1.14.0.tar.gz PackageFileSize: 1.138 MiB