Package: condiments Version: 1.14.0 Command: /home/biocbuild/R/R/bin/R CMD build --keep-empty-dirs --no-resave-data condiments StartedAt: 2025-02-03 22:47:40 -0000 (Mon, 03 Feb 2025) EndedAt: 2025-02-03 22:51:46 -0000 (Mon, 03 Feb 2025) EllapsedTime: 246.1 seconds RetCode: 0 Status: OK PackageFile: condiments_1.14.0.tar.gz PackageFileSize: 1.39 MiB