Package: consensusDE Version: 1.24.0 Command: /Library/Frameworks/R.framework/Resources/bin/R CMD check --install=check:consensusDE.install-out.txt --library=/Library/Frameworks/R.framework/Resources/library --no-vignettes --timings consensusDE_1.24.0.tar.gz StartedAt: 2025-01-31 15:24:28 -0500 (Fri, 31 Jan 2025) EndedAt: 2025-01-31 15:30:50 -0500 (Fri, 31 Jan 2025) EllapsedTime: 382.2 seconds RetCode: 0 Status: OK CheckDir: consensusDE.Rcheck Warnings: 0