Package: consensusDE Version: 1.24.0 Command: rm -rf consensusDE.buildbin-libdir && mkdir consensusDE.buildbin-libdir && /Users/biocbuild/BBS/utils/build-universal.sh consensusDE_1.24.0.tar.gz /Library/Frameworks/R.framework/Resources/bin/R consensusDE.buildbin-libdir StartedAt: 2025-02-04 12:43:09 -0500 (Tue, 04 Feb 2025) EndedAt: 2025-02-04 12:44:54 -0500 (Tue, 04 Feb 2025) EllapsedTime: 104.8 seconds RetCode: 0 Status: OK PackageFile: consensusDE_1.24.0.tgz PackageFileSize: 1.115 MiB