Package: consensusDE Version: 1.24.0 Command: /home/biocbuild/bbs-3.20-bioc/R/bin/R CMD check --install=check:consensusDE.install-out.txt --library=/home/biocbuild/bbs-3.20-bioc/R/site-library --timings consensusDE_1.24.0.tar.gz StartedAt: 2025-02-03 21:15:59 -0500 (Mon, 03 Feb 2025) EndedAt: 2025-02-03 21:21:44 -0500 (Mon, 03 Feb 2025) EllapsedTime: 344.4 seconds RetCode: 0 Status: OK CheckDir: consensusDE.Rcheck Warnings: 0