Package: consensusDE Version: 1.24.0 Command: rm -rf consensusDE.buildbin-libdir && mkdir consensusDE.buildbin-libdir && F:\biocbuild\bbs-3.20-bioc\R\bin\R.exe CMD INSTALL --build --library=consensusDE.buildbin-libdir consensusDE_1.24.0.tar.gz StartedAt: 2025-02-04 08:15:55 -0500 (Tue, 04 Feb 2025) EndedAt: 2025-02-04 08:16:48 -0500 (Tue, 04 Feb 2025) EllapsedTime: 52.6 seconds RetCode: 0 Status: OK PackageFile: consensusDE_1.24.0.zip PackageFileSize: 551.6 KiB