Package: consensusDE Version: 1.24.0 Command: chmod a+r consensusDE -R && F:\biocbuild\bbs-3.20-bioc\R\bin\R.exe CMD build --keep-empty-dirs --no-resave-data consensusDE StartedAt: 2025-02-03 18:20:30 -0500 (Mon, 03 Feb 2025) EndedAt: 2025-02-03 18:22:36 -0500 (Mon, 03 Feb 2025) EllapsedTime: 126.5 seconds RetCode: 0 Status: OK PackageFile: consensusDE_1.24.0.tar.gz PackageFileSize: 476.1 KiB