Package: consensusSeekeR Version: 1.34.0 Command: /Library/Frameworks/R.framework/Resources/bin/R CMD build --keep-empty-dirs --no-resave-data consensusSeekeR StartedAt: 2025-01-30 21:28:23 -0500 (Thu, 30 Jan 2025) EndedAt: 2025-01-30 21:29:25 -0500 (Thu, 30 Jan 2025) EllapsedTime: 62.0 seconds RetCode: 0 Status: OK PackageFile: consensusSeekeR_1.34.0.tar.gz PackageFileSize: 739.2 KiB