Package: consensusSeekeR Version: 1.34.0 Command: /Library/Frameworks/R.framework/Resources/bin/R CMD check --install=check:consensusSeekeR.install-out.txt --library=/Library/Frameworks/R.framework/Resources/library --no-vignettes --timings consensusSeekeR_1.34.0.tar.gz StartedAt: 2025-01-31 15:24:46 -0500 (Fri, 31 Jan 2025) EndedAt: 2025-01-31 15:29:29 -0500 (Fri, 31 Jan 2025) EllapsedTime: 283.2 seconds RetCode: 0 Status: OK CheckDir: consensusSeekeR.Rcheck Warnings: 0