Package: consensusSeekeR Version: 1.34.0 Command: rm -rf consensusSeekeR.buildbin-libdir && mkdir consensusSeekeR.buildbin-libdir && /Users/biocbuild/BBS/utils/build-universal.sh consensusSeekeR_1.34.0.tar.gz /Library/Frameworks/R.framework/Resources/bin/R consensusSeekeR.buildbin-libdir StartedAt: 2025-02-04 12:43:13 -0500 (Tue, 04 Feb 2025) EndedAt: 2025-02-04 12:44:20 -0500 (Tue, 04 Feb 2025) EllapsedTime: 67.5 seconds RetCode: 0 Status: OK PackageFile: consensusSeekeR_1.34.0.tgz PackageFileSize: 614.5 KiB