Package: consensusSeekeR Version: 1.34.0 Command: /Library/Frameworks/R.framework/Resources/bin/R CMD build --keep-empty-dirs --no-resave-data consensusSeekeR StartedAt: 2025-02-03 18:05:01 -0500 (Mon, 03 Feb 2025) EndedAt: 2025-02-03 18:09:16 -0500 (Mon, 03 Feb 2025) EllapsedTime: 255.2 seconds RetCode: 0 Status: OK PackageFile: consensusSeekeR_1.34.0.tar.gz PackageFileSize: 739 KiB