Package: consensusSeekeR Version: 1.34.0 Command: /home/biocbuild/bbs-3.20-bioc/R/bin/R CMD INSTALL consensusSeekeR StartedAt: 2025-02-03 15:34:31 -0500 (Mon, 03 Feb 2025) EndedAt: 2025-02-03 15:35:00 -0500 (Mon, 03 Feb 2025) EllapsedTime: 28.8 seconds RetCode: 0 Status: OK