Package: consensusSeekeR Version: 1.34.0 Command: rm -rf consensusSeekeR.buildbin-libdir && mkdir consensusSeekeR.buildbin-libdir && F:\biocbuild\bbs-3.20-bioc\R\bin\R.exe CMD INSTALL --build --library=consensusSeekeR.buildbin-libdir consensusSeekeR_1.34.0.tar.gz StartedAt: 2025-01-31 08:26:18 -0500 (Fri, 31 Jan 2025) EndedAt: 2025-01-31 08:27:35 -0500 (Fri, 31 Jan 2025) EllapsedTime: 77.8 seconds RetCode: 0 Status: OK PackageFile: consensusSeekeR_1.34.0.zip PackageFileSize: 626.6 KiB