Package: consensusSeekeR Version: 1.34.0 Command: /home/biocbuild/R/R/bin/R CMD build --keep-empty-dirs --no-resave-data consensusSeekeR StartedAt: 2025-02-03 22:48:06 -0000 (Mon, 03 Feb 2025) EndedAt: 2025-02-03 22:49:04 -0000 (Mon, 03 Feb 2025) EllapsedTime: 58.0 seconds RetCode: 0 Status: OK PackageFile: consensusSeekeR_1.34.0.tar.gz PackageFileSize: 763.5 KiB