Package: consensusSeekeR Version: 1.34.0 Command: /home/biocbuild/R/R/bin/R CMD INSTALL consensusSeekeR StartedAt: 2025-01-30 20:26:08 -0000 (Thu, 30 Jan 2025) EndedAt: 2025-01-30 20:26:48 -0000 (Thu, 30 Jan 2025) EllapsedTime: 40.2 seconds RetCode: 0 Status: OK