Package: conumee Version: 1.40.0 Command: /Library/Frameworks/R.framework/Resources/bin/R CMD build --keep-empty-dirs --no-resave-data conumee StartedAt: 2025-02-03 18:05:34 -0500 (Mon, 03 Feb 2025) EndedAt: 2025-02-03 18:16:44 -0500 (Mon, 03 Feb 2025) EllapsedTime: 670.3 seconds RetCode: 0 Status: OK PackageFile: conumee_1.40.0.tar.gz PackageFileSize: 1.779 MiB