Package: conumee Version: 1.40.0 Command: /home/biocbuild/bbs-3.20-bioc/R/bin/R CMD build --keep-empty-dirs --no-resave-data --md5 conumee StartedAt: 2025-02-03 16:57:49 -0500 (Mon, 03 Feb 2025) EndedAt: 2025-02-03 17:03:41 -0500 (Mon, 03 Feb 2025) EllapsedTime: 352.3 seconds RetCode: 0 Status: OK PackageFile: conumee_1.40.0.tar.gz PackageFileSize: 1.249 MiB