Package: convert Version: 1.82.0 Command: /home/biocbuild/bbs-3.20-bioc/R/bin/R CMD check --install=check:convert.install-out.txt --library=/home/biocbuild/bbs-3.20-bioc/R/site-library --timings convert_1.82.0.tar.gz StartedAt: 2025-02-10 21:08:36 -0500 (Mon, 10 Feb 2025) EndedAt: 2025-02-10 21:09:03 -0500 (Mon, 10 Feb 2025) EllapsedTime: 27.0 seconds RetCode: 0 Status: OK CheckDir: convert.Rcheck Warnings: 0