Package: convert Version: 1.82.0 Command: rm -rf convert.buildbin-libdir && mkdir convert.buildbin-libdir && F:\biocbuild\bbs-3.20-bioc\R\bin\R.exe CMD INSTALL --build --library=convert.buildbin-libdir convert_1.82.0.tar.gz StartedAt: 2025-02-11 08:13:43 -0500 (Tue, 11 Feb 2025) EndedAt: 2025-02-11 08:13:51 -0500 (Tue, 11 Feb 2025) EllapsedTime: 7.8 seconds RetCode: 0 Status: OK PackageFile: convert_1.82.0.zip PackageFileSize: 97.9 KiB