Package: convert Version: 1.82.0 Command: /home/biocbuild/R/R/bin/R CMD build --keep-empty-dirs --no-resave-data convert StartedAt: 2025-02-03 22:49:25 -0000 (Mon, 03 Feb 2025) EndedAt: 2025-02-03 22:49:33 -0000 (Mon, 03 Feb 2025) EllapsedTime: 8.0 seconds RetCode: 0 Status: OK PackageFile: convert_1.82.0.tar.gz PackageFileSize: 131.8 KiB