Package: copa Version: 1.74.0 Command: /Library/Frameworks/R.framework/Resources/bin/R CMD build --keep-empty-dirs --no-resave-data copa StartedAt: 2025-02-03 21:22:30 -0500 (Mon, 03 Feb 2025) EndedAt: 2025-02-03 21:22:43 -0500 (Mon, 03 Feb 2025) EllapsedTime: 13.2 seconds RetCode: 0 Status: OK PackageFile: copa_1.74.0.tar.gz PackageFileSize: 121 KiB