Package: copa Version: 1.74.0 Command: /Library/Frameworks/R.framework/Resources/bin/R CMD build --keep-empty-dirs --no-resave-data copa StartedAt: 2025-02-10 18:00:31 -0500 (Mon, 10 Feb 2025) EndedAt: 2025-02-10 18:00:58 -0500 (Mon, 10 Feb 2025) EllapsedTime: 26.4 seconds RetCode: 0 Status: OK PackageFile: copa_1.74.0.tar.gz PackageFileSize: 121 KiB