Package: copa Version: 1.74.0 Command: /home/biocbuild/bbs-3.20-bioc/R/bin/R CMD check --install=check:copa.install-out.txt --library=/home/biocbuild/bbs-3.20-bioc/R/site-library --timings copa_1.74.0.tar.gz StartedAt: 2025-02-03 21:16:36 -0500 (Mon, 03 Feb 2025) EndedAt: 2025-02-03 21:16:59 -0500 (Mon, 03 Feb 2025) EllapsedTime: 23.0 seconds RetCode: 0 Status: OK CheckDir: copa.Rcheck Warnings: 0