Package: copa Version: 1.74.0 Command: /home/biocbuild/R/R/bin/R CMD build --keep-empty-dirs --no-resave-data copa StartedAt: 2025-02-03 22:49:33 -0000 (Mon, 03 Feb 2025) EndedAt: 2025-02-03 22:49:42 -0000 (Mon, 03 Feb 2025) EllapsedTime: 9.0 seconds RetCode: 0 Status: OK PackageFile: copa_1.74.0.tar.gz PackageFileSize: 115.9 KiB