Package: corral Version: 1.16.0 Command: /Library/Frameworks/R.framework/Resources/bin/R CMD build --keep-empty-dirs --no-resave-data corral StartedAt: 2025-01-30 21:31:56 -0500 (Thu, 30 Jan 2025) EndedAt: 2025-01-30 21:51:00 -0500 (Thu, 30 Jan 2025) EllapsedTime: 1143.5 seconds RetCode: 0 Status: OK PackageFile: corral_1.16.0.tar.gz PackageFileSize: 2.068 MiB