Package: corral Version: 1.16.0 Command: /Library/Frameworks/R.framework/Resources/bin/R CMD INSTALL corral StartedAt: 2025-02-03 15:35:50 -0500 (Mon, 03 Feb 2025) EndedAt: 2025-02-03 15:36:05 -0500 (Mon, 03 Feb 2025) EllapsedTime: 15.0 seconds RetCode: 0 Status: OK