Package: corral Version: 1.16.0 Command: /Library/Frameworks/R.framework/Resources/bin/R CMD build --keep-empty-dirs --no-resave-data corral StartedAt: 2025-02-03 18:07:12 -0500 (Mon, 03 Feb 2025) EndedAt: 2025-02-03 18:36:25 -0500 (Mon, 03 Feb 2025) EllapsedTime: 1752.8 seconds RetCode: 1 Status: ERROR PackageFile: None PackageFileSize: NA