Package: corral Version: 1.16.0 Command: chmod a+r corral -R && F:\biocbuild\bbs-3.20-bioc\R\bin\R.exe CMD build --keep-empty-dirs --no-resave-data corral StartedAt: 2025-02-03 18:21:44 -0500 (Mon, 03 Feb 2025) EndedAt: 2025-02-03 18:37:05 -0500 (Mon, 03 Feb 2025) EllapsedTime: 921.5 seconds RetCode: 0 Status: OK PackageFile: corral_1.16.0.tar.gz PackageFileSize: 1.41 MiB