Package: cosmiq Version: 1.40.0 Command: /Library/Frameworks/R.framework/Resources/bin/R CMD INSTALL cosmiq StartedAt: 2025-02-03 16:25:17 -0500 (Mon, 03 Feb 2025) EndedAt: 2025-02-03 16:26:41 -0500 (Mon, 03 Feb 2025) EllapsedTime: 84.3 seconds RetCode: 0 Status: OK