Package: countsimQC Version: 1.24.0 Command: /Library/Frameworks/R.framework/Resources/bin/R CMD build --keep-empty-dirs --no-resave-data countsimQC StartedAt: 2025-02-03 18:08:47 -0500 (Mon, 03 Feb 2025) EndedAt: 2025-02-03 18:12:34 -0500 (Mon, 03 Feb 2025) EllapsedTime: 226.5 seconds RetCode: 0 Status: OK PackageFile: countsimQC_1.24.0.tar.gz PackageFileSize: 440.4 KiB