Package: countsimQC Version: 1.24.0 Command: /home/biocbuild/bbs-3.20-bioc/R/bin/R CMD build --keep-empty-dirs --no-resave-data --md5 countsimQC StartedAt: 2025-02-03 16:59:25 -0500 (Mon, 03 Feb 2025) EndedAt: 2025-02-03 17:01:03 -0500 (Mon, 03 Feb 2025) EllapsedTime: 98.1 seconds RetCode: 0 Status: OK PackageFile: countsimQC_1.24.0.tar.gz PackageFileSize: 441.7 KiB