Package: countsimQC Version: 1.24.0 Command: /home/biocbuild/bbs-3.20-bioc/R/bin/R CMD check --install=check:countsimQC.install-out.txt --library=/home/biocbuild/bbs-3.20-bioc/R/site-library --timings countsimQC_1.24.0.tar.gz StartedAt: 2025-02-03 21:19:09 -0500 (Mon, 03 Feb 2025) EndedAt: 2025-02-03 21:26:52 -0500 (Mon, 03 Feb 2025) EllapsedTime: 463.4 seconds RetCode: 0 Status: OK CheckDir: countsimQC.Rcheck Warnings: 0