Package: countsimQC Version: 1.24.0 Command: /home/biocbuild/bbs-3.20-bioc/R/bin/R CMD INSTALL countsimQC StartedAt: 2025-02-10 15:46:50 -0500 (Mon, 10 Feb 2025) EndedAt: 2025-02-10 15:47:18 -0500 (Mon, 10 Feb 2025) EllapsedTime: 28.0 seconds RetCode: 0 Status: OK