Package: countsimQC Version: 1.24.0 Command: F:\biocbuild\bbs-3.20-bioc\R\bin\R.exe CMD check --no-multiarch --install=check:countsimQC.install-out.txt --library=F:\biocbuild\bbs-3.20-bioc\R\library --no-vignettes --timings countsimQC_1.24.0.tar.gz StartedAt: 2025-02-04 00:40:54 -0500 (Tue, 04 Feb 2025) EndedAt: 2025-02-04 00:49:03 -0500 (Tue, 04 Feb 2025) EllapsedTime: 489.3 seconds RetCode: 0 Status: OK CheckDir: countsimQC.Rcheck Warnings: 0