Package: countsimQC Version: 1.24.0 Command: /home/biocbuild/R/R/bin/R CMD build --keep-empty-dirs --no-resave-data countsimQC StartedAt: 2025-02-10 22:40:37 -0000 (Mon, 10 Feb 2025) EndedAt: 2025-02-10 22:43:11 -0000 (Mon, 10 Feb 2025) EllapsedTime: 154.1 seconds RetCode: 0 Status: OK PackageFile: countsimQC_1.24.0.tar.gz PackageFileSize: 441 KiB