Package: countsimQC Version: 1.24.0 Command: /home/biocbuild/R/R/bin/R CMD INSTALL countsimQC StartedAt: 2025-02-03 21:04:46 -0000 (Mon, 03 Feb 2025) EndedAt: 2025-02-03 21:05:25 -0000 (Mon, 03 Feb 2025) EllapsedTime: 39.1 seconds RetCode: 0 Status: OK