Package: covEB Version: 1.32.0 Command: /Library/Frameworks/R.framework/Resources/bin/R CMD INSTALL covEB StartedAt: 2025-02-10 15:14:09 -0500 (Mon, 10 Feb 2025) EndedAt: 2025-02-10 15:14:16 -0500 (Mon, 10 Feb 2025) EllapsedTime: 7.5 seconds RetCode: 0 Status: OK