Package: covEB Version: 1.32.0 Command: /home/biocbuild/R/R/bin/R CMD INSTALL covEB StartedAt: 2025-02-10 20:13:12 -0000 (Mon, 10 Feb 2025) EndedAt: 2025-02-10 20:13:21 -0000 (Mon, 10 Feb 2025) EllapsedTime: 9.0 seconds RetCode: 0 Status: OK