Package: covRNA Version: 1.32.0 Command: rm -rf covRNA.buildbin-libdir && mkdir covRNA.buildbin-libdir && /Users/biocbuild/BBS/utils/build-universal.sh covRNA_1.32.0.tar.gz /Library/Frameworks/R.framework/Resources/bin/R covRNA.buildbin-libdir StartedAt: 2025-02-05 15:23:42 -0500 (Wed, 05 Feb 2025) EndedAt: 2025-02-05 15:24:06 -0500 (Wed, 05 Feb 2025) EllapsedTime: 23.9 seconds RetCode: 0 Status: OK PackageFile: covRNA_1.32.0.tgz PackageFileSize: 595.4 KiB