Package: covRNA Version: 1.32.0 Command: /Library/Frameworks/R.framework/Resources/bin/R CMD check --install=check:covRNA.install-out.txt --library=/Library/Frameworks/R.framework/Resources/library --no-vignettes --timings covRNA_1.32.0.tar.gz StartedAt: 2025-02-04 16:09:30 -0500 (Tue, 04 Feb 2025) EndedAt: 2025-02-04 16:14:23 -0500 (Tue, 04 Feb 2025) EllapsedTime: 292.6 seconds RetCode: 0 Status: OK CheckDir: covRNA.Rcheck Warnings: 0