Package: covRNA Version: 1.32.0 Command: rm -rf covRNA.buildbin-libdir && mkdir covRNA.buildbin-libdir && /Users/biocbuild/BBS/utils/build-universal.sh covRNA_1.32.0.tar.gz /Library/Frameworks/R.framework/Resources/bin/R covRNA.buildbin-libdir StartedAt: 2025-02-04 12:44:07 -0500 (Tue, 04 Feb 2025) EndedAt: 2025-02-04 12:44:49 -0500 (Tue, 04 Feb 2025) EllapsedTime: 41.8 seconds RetCode: 0 Status: OK PackageFile: covRNA_1.32.0.tgz PackageFileSize: 595.2 KiB