Package: covRNA Version: 1.32.0 Command: /Library/Frameworks/R.framework/Resources/bin/R CMD build --keep-empty-dirs --no-resave-data covRNA StartedAt: 2025-02-03 18:09:16 -0500 (Mon, 03 Feb 2025) EndedAt: 2025-02-03 18:11:19 -0500 (Mon, 03 Feb 2025) EllapsedTime: 122.9 seconds RetCode: 0 Status: OK PackageFile: covRNA_1.32.0.tar.gz PackageFileSize: 556 KiB