Package: covRNA Version: 1.32.0 Command: /home/biocbuild/R/R/bin/R CMD INSTALL covRNA StartedAt: 2025-02-10 20:51:24 -0000 (Mon, 10 Feb 2025) EndedAt: 2025-02-10 20:51:46 -0000 (Mon, 10 Feb 2025) EllapsedTime: 22.2 seconds RetCode: 0 Status: OK