Package: cqn Version: 1.52.0 Command: /Library/Frameworks/R.framework/Resources/bin/R CMD INSTALL cqn StartedAt: 2025-02-10 16:10:15 -0500 (Mon, 10 Feb 2025) EndedAt: 2025-02-10 16:10:27 -0500 (Mon, 10 Feb 2025) EllapsedTime: 12.5 seconds RetCode: 0 Status: OK