Package: cqn Version: 1.52.0 Command: /home/biocbuild/bbs-3.20-bioc/R/bin/R CMD check --install=check:cqn.install-out.txt --library=/home/biocbuild/bbs-3.20-bioc/R/site-library --timings cqn_1.52.0.tar.gz StartedAt: 2025-02-03 21:20:36 -0500 (Mon, 03 Feb 2025) EndedAt: 2025-02-03 21:21:30 -0500 (Mon, 03 Feb 2025) EllapsedTime: 54.1 seconds RetCode: 0 Status: OK CheckDir: cqn.Rcheck Warnings: 0