Package: cqn Version: 1.52.0 Command: /home/biocbuild/bbs-3.20-bioc/R/bin/R CMD INSTALL cqn StartedAt: 2025-02-10 15:47:24 -0500 (Mon, 10 Feb 2025) EndedAt: 2025-02-10 15:47:30 -0500 (Mon, 10 Feb 2025) EllapsedTime: 6.2 seconds RetCode: 0 Status: OK