Package: cqn Version: 1.52.0 Command: rm -rf cqn.buildbin-libdir && mkdir cqn.buildbin-libdir && F:\biocbuild\bbs-3.20-bioc\R\bin\R.exe CMD INSTALL --build --library=cqn.buildbin-libdir cqn_1.52.0.tar.gz StartedAt: 2025-02-04 08:17:05 -0500 (Tue, 04 Feb 2025) EndedAt: 2025-02-04 08:17:13 -0500 (Tue, 04 Feb 2025) EllapsedTime: 8.3 seconds RetCode: 0 Status: OK PackageFile: cqn_1.52.0.zip PackageFileSize: 740.5 KiB