Package: cqn Version: 1.52.0 Command: F:\biocbuild\bbs-3.20-bioc\R\bin\R.exe CMD check --no-multiarch --install=check:cqn.install-out.txt --library=F:\biocbuild\bbs-3.20-bioc\R\library --no-vignettes --timings cqn_1.52.0.tar.gz StartedAt: 2025-02-11 00:36:32 -0500 (Tue, 11 Feb 2025) EndedAt: 2025-02-11 00:37:37 -0500 (Tue, 11 Feb 2025) EllapsedTime: 64.8 seconds RetCode: 0 Status: OK CheckDir: cqn.Rcheck Warnings: 0