Package: crisprBowtie Version: 1.10.0 Command: /Library/Frameworks/R.framework/Resources/bin/R CMD build --keep-empty-dirs --no-resave-data crisprBowtie StartedAt: 2025-02-03 21:32:50 -0500 (Mon, 03 Feb 2025) EndedAt: 2025-02-03 21:33:46 -0500 (Mon, 03 Feb 2025) EllapsedTime: 56.1 seconds RetCode: 0 Status: OK PackageFile: crisprBowtie_1.10.0.tar.gz PackageFileSize: 319.3 KiB